BEGIN:VCALENDAR
VERSION:2.0
PRODID:-//MoreDirt v1.0//EN
BEGIN:VEVENT
DTSTAMP:20150730T130000Z
ORGANIZER;CN=GOWAAN:MAILTO:
STATUS:CONFIRMED
UID:MORESPORTSNETWORK3048
DTSTART:20190906T080000Z
DTEND:20190908T120000Z
SUMMARY:Gowaan Gals MTB Festival
DESCRIPTION:Gowaan Gals MTB Festival - more details: https://www.moredirt.com/event/3048
X-ALT-DESC;FMTTYPE=text/html:Gowaan Gals MTB Festival - more details: https://www.moredirt.com/event/3048
LOCATION:
END:VEVENT
END:VCALENDAR