BEGIN:VCALENDAR
VERSION:2.0
PRODID:-//MoreDirt v1.0//EN
BEGIN:VEVENT
DTSTAMP:20150730T130000Z
ORGANIZER;CN=Duncan Nisbet:MAILTO:
STATUS:CONFIRMED
UID:MORESPORTSNETWORK3045
DTSTART:20181007T080000Z
DTEND:20181007T120000Z
SUMMARY:2018 Elliot Campbell Memorial Mountain Time Trial
DESCRIPTION:2018 Elliot Campbell Memorial Mountain Time Trial - more details: https://www.moredirt.com/event/3045
X-ALT-DESC;FMTTYPE=text/html:2018 Elliot Campbell Memorial Mountain Time Trial - more details: https://www.moredirt.com/event/3045
LOCATION:
END:VEVENT
END:VCALENDAR