BEGIN:VCALENDAR
VERSION:2.0
PRODID:-//MoreDirt v1.0//EN
BEGIN:VEVENT
DTSTAMP:20150730T130000Z
ORGANIZER;CN=Yorkshire True Grit Ltd:MAILTO:
STATUS:CONFIRMED
UID:MORESPORTSNETWORK3039
DTSTART:20190621T080000Z
DTEND:20190623T120000Z
SUMMARY:Yorkshire True Grit 2019
DESCRIPTION:Yorkshire True Grit 2019 - more details: https://www.moredirt.com/event/3039
X-ALT-DESC;FMTTYPE=text/html:Yorkshire True Grit 2019 - more details: https://www.moredirt.com/event/3039
LOCATION:
END:VEVENT
END:VCALENDAR