BEGIN:VCALENDAR
VERSION:2.0
PRODID:-//MoreDirt v1.0//EN
BEGIN:VEVENT
DTSTAMP:20150730T130000Z
ORGANIZER;CN=Life Adventure Ctr:MAILTO:
STATUS:CONFIRMED
UID:MORESPORTSNETWORK3036
DTSTART:20180825T080000Z
DTEND:20180826T120000Z
SUMMARY:PSYCLE 8 2018
DESCRIPTION:PSYCLE 8 2018 - more details: https://www.moredirt.com/event/3036
X-ALT-DESC;FMTTYPE=text/html:PSYCLE 8 2018 - more details: https://www.moredirt.com/event/3036
LOCATION:
END:VEVENT
END:VCALENDAR