BEGIN:VCALENDAR
VERSION:2.0
PRODID:-//MoreDirt v1.0//EN
BEGIN:VEVENT
DTSTAMP:20150730T130000Z
ORGANIZER;CN=Mountain Bike Centre of Scotland:MAILTO:
STATUS:CONFIRMED
UID:MORESPORTSNETWORK3035
DTSTART:20180901T080000Z
DTEND:20180901T120000Z
SUMMARY:Scottish Bike Demo Day
DESCRIPTION:Scottish Bike Demo Day - more details: https://www.moredirt.com/event/3035
X-ALT-DESC;FMTTYPE=text/html:Scottish Bike Demo Day - more details: https://www.moredirt.com/event/3035
LOCATION:
END:VEVENT
END:VCALENDAR