BEGIN:VCALENDAR
VERSION:2.0
PRODID:-//MoreDirt v1.0//EN
BEGIN:VEVENT
DTSTAMP:20150730T130000Z
ORGANIZER;CN=:MAILTO:
STATUS:CONFIRMED
UID:MORESPORTSNETWORK302
DTSTART:20120622T080000Z
DTEND:20120624T120000Z
SUMMARY:Mountain Mayhem 24hr Mountain Bike Endurance Race 2012
DESCRIPTION:Mountain Mayhem 24hr Mountain Bike Endurance Race 2012 - more details: https://www.moredirt.com/event/302
X-ALT-DESC;FMTTYPE=text/html:Mountain Mayhem 24hr Mountain Bike Endurance Race 2012 - more details: https://www.moredirt.com/event/302
LOCATION:
END:VEVENT
END:VCALENDAR