BEGIN:VCALENDAR
VERSION:2.0
PRODID:-//MoreDirt v1.0//EN
BEGIN:VEVENT
DTSTAMP:20150730T130000Z
ORGANIZER;CN=Wideopen Magazine:MAILTO:
STATUS:CONFIRMED
UID:MORESPORTSNETWORK3029
DTSTART:20180901T080000Z
DTEND:20180901T120000Z
SUMMARY:Wideopen Magazine Dual slalom & end of season party
DESCRIPTION:Wideopen Magazine Dual slalom & end of season party - more details: https://www.moredirt.com/event/3029
X-ALT-DESC;FMTTYPE=text/html:Wideopen Magazine Dual slalom & end of season party - more details: https://www.moredirt.com/event/3029
LOCATION:
END:VEVENT
END:VCALENDAR