BEGIN:VCALENDAR
VERSION:2.0
PRODID:-//MoreDirt v1.0//EN
BEGIN:VEVENT
DTSTAMP:20150730T130000Z
ORGANIZER;CN=Kings Lynn MTB:MAILTO:
STATUS:CONFIRMED
UID:MORESPORTSNETWORK3022
DTSTART:20180916T080000Z
DTEND:20180916T120000Z
SUMMARY:Shouldham Warren 6
DESCRIPTION:Shouldham Warren 6 - more details: https://www.moredirt.com/event/3022
X-ALT-DESC;FMTTYPE=text/html:Shouldham Warren 6 - more details: https://www.moredirt.com/event/3022
LOCATION:
END:VEVENT
END:VCALENDAR