BEGIN:VCALENDAR
VERSION:2.0
PRODID:-//MoreDirt v1.0//EN
BEGIN:VEVENT
DTSTAMP:20150730T130000Z
ORGANIZER;CN=Numplumz Mountainbikers:MAILTO:
STATUS:CONFIRMED
UID:MORESPORTSNETWORK3021
DTSTART:20180916T080000Z
DTEND:20180916T120000Z
SUMMARY:Numplumz Mountain Bike Marathon Challenge
DESCRIPTION:Numplumz Mountain Bike Marathon Challenge - more details: https://www.moredirt.com/event/3021
X-ALT-DESC;FMTTYPE=text/html:Numplumz Mountain Bike Marathon Challenge - more details: https://www.moredirt.com/event/3021
LOCATION:
END:VEVENT
END:VCALENDAR