BEGIN:VCALENDAR
VERSION:2.0
PRODID:-//MoreDirt v1.0//EN
BEGIN:VEVENT
DTSTAMP:20150730T130000Z
ORGANIZER;CN=MTB Uplifts:MAILTO:
STATUS:CONFIRMED
UID:MORESPORTSNETWORK3019
DTSTART:20180715T080000Z
DTEND:20180715T120000Z
SUMMARY:MTB Uplifts at Berwyn
DESCRIPTION:MTB Uplifts at Berwyn - more details: https://www.moredirt.com/event/3019
X-ALT-DESC;FMTTYPE=text/html:MTB Uplifts at Berwyn - more details: https://www.moredirt.com/event/3019
LOCATION:
END:VEVENT
END:VCALENDAR