BEGIN:VCALENDAR
VERSION:2.0
PRODID:-//MoreDirt v1.0//EN
BEGIN:VEVENT
DTSTAMP:20150730T130000Z
ORGANIZER;CN=Focal Events:MAILTO:
STATUS:CONFIRMED
UID:MORESPORTSNETWORK3011
DTSTART:20180722T080000Z
DTEND:20180722T120000Z
SUMMARY:Alpinestars MTB Trail Attack 2018
DESCRIPTION:Alpinestars MTB Trail Attack 2018 - more details: https://www.moredirt.com/event/3011
X-ALT-DESC;FMTTYPE=text/html:Alpinestars MTB Trail Attack 2018 - more details: https://www.moredirt.com/event/3011
LOCATION:
END:VEVENT
END:VCALENDAR