BEGIN:VCALENDAR
VERSION:2.0
PRODID:-//MoreDirt v1.0//EN
BEGIN:VEVENT
DTSTAMP:20150730T130000Z
ORGANIZER;CN=Evans Cycles:MAILTO:
STATUS:CONFIRMED
UID:MORESPORTSNETWORK300
DTSTART:20111203T080000+0000
DTEND:20111203T120000+0000
SUMMARY:Evans Cycles Ride It! - Dorking
DESCRIPTION:Evans Cycles Ride It! - Dorking - more details: https://www.moredirt.com/event/300
X-ALT-DESC;FMTTYPE=text/html:Evans Cycles Ride It! - Dorking - more details: https://www.moredirt.com/event/300
LOCATION:
END:VEVENT
END:VCALENDAR