BEGIN:VCALENDAR
VERSION:2.0
PRODID:-//MoreDirt v1.0//EN
BEGIN:VEVENT
DTSTAMP:20150730T130000Z
ORGANIZER;CN=Revolve24:MAILTO:
STATUS:CONFIRMED
UID:MORESPORTSNETWORK3007
DTSTART:20180915T080000Z
DTEND:20180915T120000Z
SUMMARY:Revolve24 E-MTB 6 Hour Challenge - Brands Hatch
DESCRIPTION:Revolve24 E-MTB 6 Hour Challenge - Brands Hatch - more details: https://www.moredirt.com/event/3007
X-ALT-DESC;FMTTYPE=text/html:Revolve24 E-MTB 6 Hour Challenge - Brands Hatch - more details: https://www.moredirt.com/event/3007
LOCATION:
END:VEVENT
END:VCALENDAR