BEGIN:VCALENDAR
VERSION:2.0
PRODID:-//MoreDirt v1.0//EN
BEGIN:VEVENT
DTSTAMP:20150730T130000Z
ORGANIZER;CN=Hope Technology Ltd:MAILTO:
STATUS:CONFIRMED
UID:MORESPORTSNETWORK3006
DTSTART:20180825T080000Z
DTEND:20180825T120000Z
SUMMARY:Hope TECH Day - Gisburn Forest
DESCRIPTION:Hope TECH Day - Gisburn Forest - more details: https://www.moredirt.com/event/3006
X-ALT-DESC;FMTTYPE=text/html:Hope TECH Day - Gisburn Forest - more details: https://www.moredirt.com/event/3006
LOCATION:
END:VEVENT
END:VCALENDAR