BEGIN:VCALENDAR
VERSION:2.0
PRODID:-//MoreDirt v1.0//EN
BEGIN:VEVENT
DTSTAMP:20150730T130000Z
ORGANIZER;CN=Bell Bike Helmets:MAILTO:
STATUS:CONFIRMED
UID:MORESPORTSNETWORK3005
DTSTART:20180812T080000Z
DTEND:20180812T120000Z
SUMMARY:Bell Ride Free - Hamsterley
DESCRIPTION:Bell Ride Free - Hamsterley - more details: https://www.moredirt.com/event/3005
X-ALT-DESC;FMTTYPE=text/html:Bell Ride Free - Hamsterley - more details: https://www.moredirt.com/event/3005
LOCATION:
END:VEVENT
END:VCALENDAR