BEGIN:VCALENDAR
VERSION:2.0
PRODID:-//MoreDirt v1.0//EN
BEGIN:VEVENT
DTSTAMP:20150730T130000Z
ORGANIZER;CN=Bell Bike Helmets:MAILTO:
STATUS:CONFIRMED
UID:MORESPORTSNETWORK3004
DTSTART:20180701T080000Z
DTEND:20180701T120000Z
SUMMARY:Bell Ride Free - Forest of Dean
DESCRIPTION:Bell Ride Free - Forest of Dean - more details: https://www.moredirt.com/event/3004
X-ALT-DESC;FMTTYPE=text/html:Bell Ride Free - Forest of Dean - more details: https://www.moredirt.com/event/3004
LOCATION:
END:VEVENT
END:VCALENDAR