BEGIN:VCALENDAR
VERSION:2.0
PRODID:-//MoreDirt v1.0//EN
BEGIN:VEVENT
DTSTAMP:20150730T130000Z
ORGANIZER;CN=Evans Cycles:MAILTO:
STATUS:CONFIRMED
UID:MORESPORTSNETWORK299
DTSTART:20111126T080000+0000
DTEND:20111126T120000+0000
SUMMARY:Evans Cycles Ride It! - Gatwick
DESCRIPTION:Evans Cycles Ride It! - Gatwick - more details: https://www.moredirt.com/event/299
X-ALT-DESC;FMTTYPE=text/html:Evans Cycles Ride It! - Gatwick - more details: https://www.moredirt.com/event/299
LOCATION:
END:VEVENT
END:VCALENDAR