BEGIN:VCALENDAR
VERSION:2.0
PRODID:-//MoreDirt v1.0//EN
BEGIN:VEVENT
DTSTAMP:20150730T130000Z
ORGANIZER;CN=Amanda Tanfield:MAILTO:
STATUS:CONFIRMED
UID:MORESPORTSNETWORK2999
DTSTART:20180715T080000Z
DTEND:20180715T120000Z
SUMMARY:Ladies Do DH mini
DESCRIPTION:Ladies Do DH mini - more details: https://www.moredirt.com/event/2999
X-ALT-DESC;FMTTYPE=text/html:Ladies Do DH mini - more details: https://www.moredirt.com/event/2999
LOCATION:
END:VEVENT
END:VCALENDAR