BEGIN:VCALENDAR
VERSION:2.0
PRODID:-//MoreDirt v1.0//EN
BEGIN:VEVENT
DTSTAMP:20150730T130000Z
ORGANIZER;CN=Hamsterley Trailblazers:MAILTO:
STATUS:CONFIRMED
UID:MORESPORTSNETWORK2985
DTSTART:20180930T080000Z
DTEND:20180930T120000Z
SUMMARY:K-Line TT 2018
DESCRIPTION:K-Line TT 2018 - more details: https://www.moredirt.com/event/2985
X-ALT-DESC;FMTTYPE=text/html:K-Line TT 2018 - more details: https://www.moredirt.com/event/2985
LOCATION:
END:VEVENT
END:VCALENDAR