BEGIN:VCALENDAR
VERSION:2.0
PRODID:-//MoreDirt v1.0//EN
BEGIN:VEVENT
DTSTAMP:20150730T130000Z
ORGANIZER;CN=Evans Cycles:MAILTO:
STATUS:CONFIRMED
UID:MORESPORTSNETWORK297
DTSTART:20111029T080000Z
DTEND:20111029T120000Z
SUMMARY:Evans Cycles Ride It! - Cannock Chase
DESCRIPTION:Evans Cycles Ride It! - Cannock Chase - more details: https://www.moredirt.com/event/297
X-ALT-DESC;FMTTYPE=text/html:Evans Cycles Ride It! - Cannock Chase - more details: https://www.moredirt.com/event/297
LOCATION:
END:VEVENT
END:VCALENDAR