BEGIN:VCALENDAR
VERSION:2.0
PRODID:-//MoreDirt v1.0//EN
BEGIN:VEVENT
DTSTAMP:20150730T130000Z
ORGANIZER;CN=IOW MTB Centre:MAILTO:
STATUS:CONFIRMED
UID:MORESPORTSNETWORK2975
DTSTART:20180708T080000Z
DTEND:20180708T120000Z
SUMMARY:IOW MTB Centre Red Trail Enduro
DESCRIPTION:IOW MTB Centre Red Trail Enduro - more details: https://www.moredirt.com/event/2975
X-ALT-DESC;FMTTYPE=text/html:IOW MTB Centre Red Trail Enduro - more details: https://www.moredirt.com/event/2975
LOCATION:
END:VEVENT
END:VCALENDAR