BEGIN:VCALENDAR
VERSION:2.0
PRODID:-//MoreDirt v1.0//EN
BEGIN:VEVENT
DTSTAMP:20150730T130000Z
ORGANIZER;CN=Trailmunki.com:MAILTO:
STATUS:CONFIRMED
UID:MORESPORTSNETWORK2974
DTSTART:20180603T080000Z
DTEND:20180603T120000Z
SUMMARY:Kona Demo Day at Cardinahm woods
DESCRIPTION:Kona Demo Day at Cardinahm woods - more details: https://www.moredirt.com/event/2974
X-ALT-DESC;FMTTYPE=text/html:Kona Demo Day at Cardinahm woods - more details: https://www.moredirt.com/event/2974
LOCATION:
END:VEVENT
END:VCALENDAR