BEGIN:VCALENDAR
VERSION:2.0
PRODID:-//MoreDirt v1.0//EN
BEGIN:VEVENT
DTSTAMP:20150730T130000Z
ORGANIZER;CN=Farmer Johns MTB Park:MAILTO:
STATUS:CONFIRMED
UID:MORESPORTSNETWORK2967
DTSTART:20181006T080000Z
DTEND:20181007T120000Z
SUMMARY:Farmer Johns Race Weekend 2018
DESCRIPTION:Farmer Johns Race Weekend 2018 - more details: https://www.moredirt.com/event/2967
X-ALT-DESC;FMTTYPE=text/html:Farmer Johns Race Weekend 2018 - more details: https://www.moredirt.com/event/2967
LOCATION:
END:VEVENT
END:VCALENDAR