BEGIN:VCALENDAR
VERSION:2.0
PRODID:-//MoreDirt v1.0//EN
BEGIN:VEVENT
DTSTAMP:20150730T130000Z
ORGANIZER;CN=Bryniau MTB:MAILTO:
STATUS:CONFIRMED
UID:MORESPORTSNETWORK2955
DTSTART:20180701T080000Z
DTEND:20180701T120000Z
SUMMARY:The Clwydian MTB Challenge 2018
DESCRIPTION:The Clwydian MTB Challenge 2018 - more details: https://www.moredirt.com/event/2955
X-ALT-DESC;FMTTYPE=text/html:The Clwydian MTB Challenge 2018 - more details: https://www.moredirt.com/event/2955
LOCATION:
END:VEVENT
END:VCALENDAR