BEGIN:VCALENDAR
VERSION:2.0
PRODID:-//MoreDirt v1.0//EN
BEGIN:VEVENT
DTSTAMP:20150730T130000Z
ORGANIZER;CN=Alf Jones Cycles:MAILTO:
STATUS:CONFIRMED
UID:MORESPORTSNETWORK2954
DTSTART:20180624T080000Z
DTEND:20180624T120000Z
SUMMARY:Juliana Ride Out
DESCRIPTION:Juliana Ride Out - more details: https://www.moredirt.com/event/2954
X-ALT-DESC;FMTTYPE=text/html:Juliana Ride Out - more details: https://www.moredirt.com/event/2954
LOCATION:
END:VEVENT
END:VCALENDAR