BEGIN:VCALENDAR
VERSION:2.0
PRODID:-//MoreDirt v1.0//EN
BEGIN:VEVENT
DTSTAMP:20150730T130000Z
ORGANIZER;CN=Sarah Cobb:MAILTO:
STATUS:CONFIRMED
UID:MORESPORTSNETWORK2937
DTSTART:20180603T080000Z
DTEND:20180603T120000Z
SUMMARY:Reach Off Road
DESCRIPTION:Reach Off Road - more details: https://www.moredirt.com/event/2937
X-ALT-DESC;FMTTYPE=text/html:Reach Off Road - more details: https://www.moredirt.com/event/2937
LOCATION:
END:VEVENT
END:VCALENDAR