BEGIN:VCALENDAR
VERSION:2.0
PRODID:-//MoreDirt v1.0//EN
BEGIN:VEVENT
DTSTAMP:20150730T130000Z
ORGANIZER;CN=UK FAT BIKE Championship:MAILTO:
STATUS:CONFIRMED
UID:MORESPORTSNETWORK2936
DTSTART:20180826T080000Z
DTEND:20180826T120000Z
SUMMARY:UK Fat Bike Championship 2018
DESCRIPTION:UK Fat Bike Championship 2018 - more details: https://www.moredirt.com/event/2936
X-ALT-DESC;FMTTYPE=text/html:UK Fat Bike Championship 2018 - more details: https://www.moredirt.com/event/2936
LOCATION:
END:VEVENT
END:VCALENDAR