BEGIN:VCALENDAR
VERSION:2.0
PRODID:-//MoreDirt v1.0//EN
BEGIN:VEVENT
DTSTAMP:20150730T130000Z
ORGANIZER;CN=Scadson Freeride Park:MAILTO:
STATUS:CONFIRMED
UID:MORESPORTSNETWORK2931
DTSTART:20180526T080000Z
DTEND:20180527T120000Z
SUMMARY:Scadson Freeride Park Open Weekend
DESCRIPTION:Scadson Freeride Park Open Weekend - more details: https://www.moredirt.com/event/2931
X-ALT-DESC;FMTTYPE=text/html:Scadson Freeride Park Open Weekend - more details: https://www.moredirt.com/event/2931
LOCATION:
END:VEVENT
END:VCALENDAR