BEGIN:VCALENDAR
VERSION:2.0
PRODID:-//MoreDirt v1.0//EN
BEGIN:VEVENT
DTSTAMP:20150730T130000Z
ORGANIZER;CN=Cyclewise Whinlatter:MAILTO:
STATUS:CONFIRMED
UID:MORESPORTSNETWORK2925
DTSTART:20180519T080000Z
DTEND:20180520T120000Z
SUMMARY:Bike Demo Weekend
DESCRIPTION:Bike Demo Weekend - more details: https://www.moredirt.com/event/2925
X-ALT-DESC;FMTTYPE=text/html:Bike Demo Weekend - more details: https://www.moredirt.com/event/2925
LOCATION:
END:VEVENT
END:VCALENDAR