BEGIN:VCALENDAR
VERSION:2.0
PRODID:-//MoreDirt v1.0//EN
BEGIN:VEVENT
DTSTAMP:20150730T130000Z
ORGANIZER;CN=Steel Is Real MTB:MAILTO:
STATUS:CONFIRMED
UID:MORESPORTSNETWORK2924
DTSTART:20181006T080000Z
DTEND:20181006T120000Z
SUMMARY:Steel Is Real MTB - The Demo
DESCRIPTION:Steel Is Real MTB - The Demo - more details: https://www.moredirt.com/event/2924
X-ALT-DESC;FMTTYPE=text/html:Steel Is Real MTB - The Demo - more details: https://www.moredirt.com/event/2924
LOCATION:
END:VEVENT
END:VCALENDAR