BEGIN:VCALENDAR
VERSION:2.0
PRODID:-//MoreDirt v1.0//EN
BEGIN:VEVENT
DTSTAMP:20150730T130000Z
ORGANIZER;CN=Oneplanet Adventure:MAILTO:
STATUS:CONFIRMED
UID:MORESPORTSNETWORK2923
DTSTART:20180421T080000Z
DTEND:20180422T120000Z
SUMMARY:The Oneplanet Adventure Demo Weekend
DESCRIPTION:The Oneplanet Adventure Demo Weekend - more details: https://www.moredirt.com/event/2923
X-ALT-DESC;FMTTYPE=text/html:The Oneplanet Adventure Demo Weekend - more details: https://www.moredirt.com/event/2923
LOCATION:
END:VEVENT
END:VCALENDAR