BEGIN:VCALENDAR
VERSION:2.0
PRODID:-//MoreDirt v1.0//EN
BEGIN:VEVENT
DTSTAMP:20150730T130000Z
ORGANIZER;CN=PVS Events ltd:MAILTO:
STATUS:CONFIRMED
UID:MORESPORTSNETWORK2918
DTSTART:20180623T080000Z
DTEND:20180624T120000Z
SUMMARY:Singletrack7 2018
DESCRIPTION:Singletrack7 2018 - more details: https://www.moredirt.com/event/2918
X-ALT-DESC;FMTTYPE=text/html:Singletrack7 2018 - more details: https://www.moredirt.com/event/2918
LOCATION:
END:VEVENT
END:VCALENDAR