BEGIN:VCALENDAR
VERSION:2.0
PRODID:-//MoreDirt v1.0//EN
BEGIN:VEVENT
DTSTAMP:20150730T130000Z
ORGANIZER;CN=Dukes Weekender:MAILTO:
STATUS:CONFIRMED
UID:MORESPORTSNETWORK2917
DTSTART:20180908T080000Z
DTEND:20180909T120000Z
SUMMARY:The Dukes Gravel Enduro
DESCRIPTION:The Dukes Gravel Enduro - more details: https://www.moredirt.com/event/2917
X-ALT-DESC;FMTTYPE=text/html:The Dukes Gravel Enduro - more details: https://www.moredirt.com/event/2917
LOCATION:
END:VEVENT
END:VCALENDAR