BEGIN:VCALENDAR
VERSION:2.0
PRODID:-//MoreDirt v1.0//EN
BEGIN:VEVENT
DTSTAMP:20150730T130000Z
ORGANIZER;CN=The Bicycle Service:MAILTO:
STATUS:CONFIRMED
UID:MORESPORTSNETWORK2916
DTSTART:20180506T080000Z
DTEND:20180506T120000Z
SUMMARY:Transition Bikes Demo Day
DESCRIPTION:Transition Bikes Demo Day - more details: https://www.moredirt.com/event/2916
X-ALT-DESC;FMTTYPE=text/html:Transition Bikes Demo Day - more details: https://www.moredirt.com/event/2916
LOCATION:
END:VEVENT
END:VCALENDAR