BEGIN:VCALENDAR
VERSION:2.0
PRODID:-//MoreDirt v1.0//EN
BEGIN:VEVENT
DTSTAMP:20150730T130000Z
ORGANIZER;CN=JE James Cycles:MAILTO:
STATUS:CONFIRMED
UID:MORESPORTSNETWORK2913
DTSTART:20180410T080000Z
DTEND:20180410T120000Z
SUMMARY:Haibike Demo Day - Spring Break Cycle Festival
DESCRIPTION:Haibike Demo Day - Spring Break Cycle Festival - more details: https://www.moredirt.com/event/2913
X-ALT-DESC;FMTTYPE=text/html:Haibike Demo Day - Spring Break Cycle Festival - more details: https://www.moredirt.com/event/2913
LOCATION:
END:VEVENT
END:VCALENDAR