BEGIN:VCALENDAR
VERSION:2.0
PRODID:-//MoreDirt v1.0//EN
BEGIN:VEVENT
DTSTAMP:20150730T130000Z
ORGANIZER;CN=On Yer Bike Cycles Ltd:MAILTO:
STATUS:CONFIRMED
UID:MORESPORTSNETWORK2912
DTSTART:20180408T080000Z
DTEND:20180408T120000Z
SUMMARY:On Yer Bike Cycles E-Bike Demo Day
DESCRIPTION:On Yer Bike Cycles E-Bike Demo Day - more details: https://www.moredirt.com/event/2912
X-ALT-DESC;FMTTYPE=text/html:On Yer Bike Cycles E-Bike Demo Day - more details: https://www.moredirt.com/event/2912
LOCATION:
END:VEVENT
END:VCALENDAR