BEGIN:VCALENDAR
VERSION:2.0
PRODID:-//MoreDirt v1.0//EN
BEGIN:VEVENT
DTSTAMP:20150730T130000Z
ORGANIZER;CN=DoonThaBrae Events:MAILTO:
STATUS:CONFIRMED
UID:MORESPORTSNETWORK2907
DTSTART:20180610T080000Z
DTEND:20180610T120000Z
SUMMARY:Pitfichie Local Enduro 2018
DESCRIPTION:Pitfichie Local Enduro 2018 - more details: https://www.moredirt.com/event/2907
X-ALT-DESC;FMTTYPE=text/html:Pitfichie Local Enduro 2018 - more details: https://www.moredirt.com/event/2907
LOCATION:
END:VEVENT
END:VCALENDAR