BEGIN:VCALENDAR
VERSION:2.0
PRODID:-//MoreDirt v1.0//EN
BEGIN:VEVENT
DTSTAMP:20150730T130000Z
ORGANIZER;CN=Leisure Lakes Bikes:MAILTO:
STATUS:CONFIRMED
UID:MORESPORTSNETWORK2902
DTSTART:20180428T080000Z
DTEND:20180428T120000Z
SUMMARY:Leisure Lakes Electric Bike Demo Day
DESCRIPTION:Leisure Lakes Electric Bike Demo Day - more details: https://www.moredirt.com/event/2902
X-ALT-DESC;FMTTYPE=text/html:Leisure Lakes Electric Bike Demo Day - more details: https://www.moredirt.com/event/2902
LOCATION:
END:VEVENT
END:VCALENDAR