BEGIN:VCALENDAR
VERSION:2.0
PRODID:-//MoreDirt v1.0//EN
BEGIN:VEVENT
DTSTAMP:20150730T130000Z
ORGANIZER;CN=Clive Mitchell Cycles Truro:MAILTO:
STATUS:CONFIRMED
UID:MORESPORTSNETWORK2901
DTSTART:20180408T080000Z
DTEND:20180408T120000Z
SUMMARY:Whyte and Specialized Demo Day
DESCRIPTION:Whyte and Specialized Demo Day - more details: https://www.moredirt.com/event/2901
X-ALT-DESC;FMTTYPE=text/html:Whyte and Specialized Demo Day - more details: https://www.moredirt.com/event/2901
LOCATION:
END:VEVENT
END:VCALENDAR