BEGIN:VCALENDAR
VERSION:2.0
PRODID:-//MoreDirt v1.0//EN
BEGIN:VEVENT
DTSTAMP:20150730T130000Z
ORGANIZER;CN=Bike Fest:MAILTO:
STATUS:CONFIRMED
UID:MORESPORTSNETWORK2900
DTSTART:20180630T080000Z
DTEND:20180630T120000Z
SUMMARY:Bristol Bike Fest
DESCRIPTION:Bristol Bike Fest - more details: https://www.moredirt.com/event/2900
X-ALT-DESC;FMTTYPE=text/html:Bristol Bike Fest - more details: https://www.moredirt.com/event/2900
LOCATION:
END:VEVENT
END:VCALENDAR