BEGIN:VCALENDAR
VERSION:2.0
PRODID:-//MoreDirt v1.0//EN
BEGIN:VEVENT
DTSTAMP:20150730T130000Z
ORGANIZER;CN=Rita Naylor:MAILTO:
STATUS:CONFIRMED
UID:MORESPORTSNETWORK2898
DTSTART:20180825T080000Z
DTEND:20180825T120000Z
SUMMARY:York 38 Special
DESCRIPTION:York 38 Special - more details: https://www.moredirt.com/event/2898
X-ALT-DESC;FMTTYPE=text/html:York 38 Special - more details: https://www.moredirt.com/event/2898
LOCATION:
END:VEVENT
END:VCALENDAR