BEGIN:VCALENDAR
VERSION:2.0
PRODID:-//MoreDirt v1.0//EN
BEGIN:VEVENT
DTSTAMP:20150730T130000Z
ORGANIZER;CN=Bryniau MTB:MAILTO:
STATUS:CONFIRMED
UID:MORESPORTSNETWORK2897
DTSTART:20180414T080000Z
DTEND:20180414T120000Z
SUMMARY:Snowdonia Bike Fest Cycle Cross Adventure Challenge 2018
DESCRIPTION:Snowdonia Bike Fest Cycle Cross Adventure Challenge 2018 - more details: https://www.moredirt.com/event/2897
X-ALT-DESC;FMTTYPE=text/html:Snowdonia Bike Fest Cycle Cross Adventure Challenge 2018 - more details: https://www.moredirt.com/event/2897
LOCATION:
END:VEVENT
END:VCALENDAR