BEGIN:VCALENDAR
VERSION:2.0
PRODID:-//MoreDirt v1.0//EN
BEGIN:VEVENT
DTSTAMP:20150730T130000Z
ORGANIZER;CN=YT Industries:MAILTO:
STATUS:CONFIRMED
UID:MORESPORTSNETWORK2884
DTSTART:20180518T080000Z
DTEND:20180520T120000Z
SUMMARY:YT Rolling Circus Tour 2018 - Revolution Bike Park
DESCRIPTION:YT Rolling Circus Tour 2018 - Revolution Bike Park - more details: https://www.moredirt.com/event/2884
X-ALT-DESC;FMTTYPE=text/html:YT Rolling Circus Tour 2018 - Revolution Bike Park - more details: https://www.moredirt.com/event/2884
LOCATION:
END:VEVENT
END:VCALENDAR