BEGIN:VCALENDAR
VERSION:2.0
PRODID:-//MoreDirt v1.0//EN
BEGIN:VEVENT
DTSTAMP:20150730T130000Z
ORGANIZER;CN=Bikepark Wales:MAILTO:
STATUS:CONFIRMED
UID:MORESPORTSNETWORK2880
DTSTART:20181006T080000Z
DTEND:20181007T120000Z
SUMMARY:Bikepark Wales Womens Weekend 2018
DESCRIPTION:Bikepark Wales Womens Weekend 2018 - more details: https://www.moredirt.com/event/2880
X-ALT-DESC;FMTTYPE=text/html:Bikepark Wales Womens Weekend 2018 - more details: https://www.moredirt.com/event/2880
LOCATION:
END:VEVENT
END:VCALENDAR