BEGIN:VCALENDAR
VERSION:2.0
PRODID:-//MoreDirt v1.0//EN
BEGIN:VEVENT
DTSTAMP:20150730T130000Z
ORGANIZER;CN=Alpine Bikes:MAILTO:
STATUS:CONFIRMED
UID:MORESPORTSNETWORK2878
DTSTART:20180428T080000Z
DTEND:20180429T120000Z
SUMMARY:Alpine Bikes Cannondale Demo Weekend
DESCRIPTION:Alpine Bikes Cannondale Demo Weekend - more details: https://www.moredirt.com/event/2878
X-ALT-DESC;FMTTYPE=text/html:Alpine Bikes Cannondale Demo Weekend - more details: https://www.moredirt.com/event/2878
LOCATION:
END:VEVENT
END:VCALENDAR