BEGIN:VCALENDAR
VERSION:2.0
PRODID:-//MoreDirt v1.0//EN
BEGIN:VEVENT
DTSTAMP:20150730T130000Z
ORGANIZER;CN=Alpine Bikes:MAILTO:
STATUS:CONFIRMED
UID:MORESPORTSNETWORK2876
DTSTART:20180414T080000Z
DTEND:20180415T120000Z
SUMMARY:Alpine Bikes Cube Demo Weekend
DESCRIPTION:Alpine Bikes Cube Demo Weekend - more details: https://www.moredirt.com/event/2876
X-ALT-DESC;FMTTYPE=text/html:Alpine Bikes Cube Demo Weekend - more details: https://www.moredirt.com/event/2876
LOCATION:
END:VEVENT
END:VCALENDAR