BEGIN:VCALENDAR
VERSION:2.0
PRODID:-//MoreDirt v1.0//EN
BEGIN:VEVENT
DTSTAMP:20150730T130000Z
ORGANIZER;CN=Alpine Bikes:MAILTO:
STATUS:CONFIRMED
UID:MORESPORTSNETWORK2875
DTSTART:20180505T080000Z
DTEND:20180506T120000Z
SUMMARY:Alpine Bikes Whyte Demo Weekend
DESCRIPTION:Alpine Bikes Whyte Demo Weekend - more details: https://www.moredirt.com/event/2875
X-ALT-DESC;FMTTYPE=text/html:Alpine Bikes Whyte Demo Weekend - more details: https://www.moredirt.com/event/2875
LOCATION:
END:VEVENT
END:VCALENDAR