BEGIN:VCALENDAR
VERSION:2.0
PRODID:-//MoreDirt v1.0//EN
BEGIN:VEVENT
DTSTAMP:20150730T130000Z
ORGANIZER;CN=Jeremy Duxbury:MAILTO:
STATUS:CONFIRMED
UID:MORESPORTSNETWORK2873
DTSTART:20180506T080000Z
DTEND:20180506T120000Z
SUMMARY:Eat Dirt on Exmoor 2018
DESCRIPTION:Eat Dirt on Exmoor 2018 - more details: https://www.moredirt.com/event/2873
X-ALT-DESC;FMTTYPE=text/html:Eat Dirt on Exmoor 2018 - more details: https://www.moredirt.com/event/2873
LOCATION:
END:VEVENT
END:VCALENDAR