BEGIN:VCALENDAR
VERSION:2.0
PRODID:-//MoreDirt v1.0//EN
BEGIN:VEVENT
DTSTAMP:20150730T130000Z
ORGANIZER;CN=Gravity Project SW:MAILTO:
STATUS:CONFIRMED
UID:MORESPORTSNETWORK2865
DTSTART:20180909T080000Z
DTEND:20180909T120000Z
SUMMARY:Black Bee DH Series - Round 3
DESCRIPTION:Black Bee DH Series - Round 3 - more details: https://www.moredirt.com/event/2865
X-ALT-DESC;FMTTYPE=text/html:Black Bee DH Series - Round 3 - more details: https://www.moredirt.com/event/2865
LOCATION:
END:VEVENT
END:VCALENDAR