BEGIN:VCALENDAR
VERSION:2.0
PRODID:-//MoreDirt v1.0//EN
BEGIN:VEVENT
DTSTAMP:20150730T130000Z
ORGANIZER;CN=Gravity Project SW:MAILTO:
STATUS:CONFIRMED
UID:MORESPORTSNETWORK2863
DTSTART:20180421T080000Z
DTEND:20180422T120000Z
SUMMARY:Black Bee DH Series - Round 1
DESCRIPTION:Black Bee DH Series - Round 1 - more details: https://www.moredirt.com/event/2863
X-ALT-DESC;FMTTYPE=text/html:Black Bee DH Series - Round 1 - more details: https://www.moredirt.com/event/2863
LOCATION:
END:VEVENT
END:VCALENDAR